BEGIN:VCALENDAR
VERSION:2.0
PRODID:icalendar-ruby
CALSCALE:GREGORIAN
METHOD:PUBLISH
BEGIN:VEVENT
DTSTAMP:20260425T101910Z
UID:119-863638@crosslanesumc.org
DTSTART:20261030T000000Z
DTEND:20261030T010000Z
CLASS:PUBLIC
CREATED:20260424T223802
DESCRIPTION:Zoom only.   https://us02web.zoom.us/j/84036041819
LAST-MODIFIED:20260424T223802
LOCATION:
SUMMARY:bible study
URL;VALUE=URI:https://www.crosslanesumc.org/events/bible-study--119/2026-10
 -29
END:VEVENT
END:VCALENDAR
