BEGIN:VCALENDAR
VERSION:2.0
PRODID:icalendar-ruby
CALSCALE:GREGORIAN
METHOD:PUBLISH
BEGIN:VEVENT
DTSTAMP:20260425T003011Z
UID:119-862737@crosslanesumc.org
DTSTART:20260918T000000Z
DTEND:20260918T010000Z
CLASS:PUBLIC
CREATED:20260424T194826
DESCRIPTION:Zoom only.   https://us02web.zoom.us/j/84036041819
LAST-MODIFIED:20260424T194826
LOCATION:
SUMMARY:bible study
URL;VALUE=URI:https://www.crosslanesumc.org/events/bible-study--119/2026-09
 -17
END:VEVENT
END:VCALENDAR
