BEGIN:VCALENDAR
VERSION:2.0
PRODID:icalendar-ruby
CALSCALE:GREGORIAN
METHOD:PUBLISH
BEGIN:VEVENT
DTSTAMP:20260424T230720Z
UID:119-861842@crosslanesumc.org
DTSTART:20260911T000000Z
DTEND:20260911T010000Z
CLASS:PUBLIC
CREATED:20260424T170033
DESCRIPTION:Zoom only.   https://us02web.zoom.us/j/84036041819
LAST-MODIFIED:20260424T170033
LOCATION:
SUMMARY:bible study
URL;VALUE=URI:https://www.crosslanesumc.org/events/bible-study--119/2026-09
 -10
END:VEVENT
END:VCALENDAR
