BEGIN:VCALENDAR
VERSION:2.0
PRODID:icalendar-ruby
CALSCALE:GREGORIAN
METHOD:PUBLISH
BEGIN:VEVENT
DTSTAMP:20260424T182438Z
UID:119-860945@crosslanesumc.org
DTSTART:20260821T000000Z
DTEND:20260821T010000Z
CLASS:PUBLIC
CREATED:20260424T141255
DESCRIPTION:Zoom only.   https://us02web.zoom.us/j/84036041819
LAST-MODIFIED:20260424T141255
LOCATION:
SUMMARY:bible study
URL;VALUE=URI:https://www.crosslanesumc.org/events/bible-study--119/2026-08
 -20
END:VEVENT
END:VCALENDAR
