BEGIN:VCALENDAR
VERSION:2.0
PRODID:icalendar-ruby
CALSCALE:GREGORIAN
METHOD:PUBLISH
BEGIN:VEVENT
DTSTAMP:20260424T165927Z
UID:119-860050@crosslanesumc.org
DTSTART:20260814T000000Z
DTEND:20260814T010000Z
CLASS:PUBLIC
CREATED:20260424T112654
DESCRIPTION:Zoom only.   https://us02web.zoom.us/j/84036041819
LAST-MODIFIED:20260424T112654
LOCATION:
SUMMARY:bible study
URL;VALUE=URI:https://www.crosslanesumc.org/events/bible-study--119/2026-08
 -13
END:VEVENT
END:VCALENDAR
