BEGIN:VCALENDAR
VERSION:2.0
PRODID:icalendar-ruby
CALSCALE:GREGORIAN
METHOD:PUBLISH
BEGIN:VEVENT
DTSTAMP:20260424T133150Z
UID:119-859154@crosslanesumc.org
DTSTART:20260731T000000Z
DTEND:20260731T010000Z
CLASS:PUBLIC
CREATED:20260424T083408
DESCRIPTION:Zoom only.   https://us02web.zoom.us/j/84036041819
LAST-MODIFIED:20260424T083408
LOCATION:
SUMMARY:bible study
URL;VALUE=URI:https://www.crosslanesumc.org/events/bible-study--119/2026-07
 -30
END:VEVENT
END:VCALENDAR
