BEGIN:VCALENDAR
VERSION:2.0
PRODID:icalendar-ruby
CALSCALE:GREGORIAN
METHOD:PUBLISH
BEGIN:VEVENT
DTSTAMP:20260424T083112Z
UID:119-858257@crosslanesumc.org
DTSTART:20260710T000000Z
DTEND:20260710T010000Z
CLASS:PUBLIC
CREATED:20260423T230602
DESCRIPTION:Zoom only.   https://us02web.zoom.us/j/84036041819
LAST-MODIFIED:20260423T230602
LOCATION:
SUMMARY:bible study
URL;VALUE=URI:https://www.crosslanesumc.org/events/bible-study--119/2026-07
 -09
END:VEVENT
END:VCALENDAR
