BEGIN:VCALENDAR
VERSION:2.0
PRODID:icalendar-ruby
CALSCALE:GREGORIAN
METHOD:PUBLISH
BEGIN:VEVENT
DTSTAMP:20260424T020458Z
UID:119-857360@crosslanesumc.org
DTSTART:20260612T000000Z
DTEND:20260612T010000Z
CLASS:PUBLIC
CREATED:20260423T201131
DESCRIPTION:Zoom only.   https://us02web.zoom.us/j/84036041819
LAST-MODIFIED:20260423T201131
LOCATION:
SUMMARY:bible study
URL;VALUE=URI:https://www.crosslanesumc.org/events/bible-study--119/2026-06
 -11
END:VEVENT
END:VCALENDAR
