BEGIN:VCALENDAR
VERSION:2.0
PRODID:icalendar-ruby
CALSCALE:GREGORIAN
METHOD:PUBLISH
BEGIN:VEVENT
DTSTAMP:20260423T225927Z
UID:119-856466@crosslanesumc.org
DTSTART:20260529T000000Z
DTEND:20260529T010000Z
CLASS:PUBLIC
CREATED:20260423T171817
DESCRIPTION:Zoom only.   https://us02web.zoom.us/j/84036041819
LAST-MODIFIED:20260423T171817
LOCATION:
SUMMARY:bible study
URL;VALUE=URI:https://www.crosslanesumc.org/events/bible-study--119/2026-05
 -28
END:VEVENT
END:VCALENDAR
